BEGIN:VCALENDAR
VERSION:2.0
PRODID:spatie/icalendar-generator
DESCRIPTION:Veranstaltungen von OPS Dillenburg
X-WR-CALDESC:Veranstaltungen von OPS Dillenburg
REFRESH-INTERVAL;VALUE=DURATION:PT1440M
X-PUBLISHED-TTL:PT1440M
BEGIN:VTIMEZONE
TZID:Europe/Berlin
BEGIN:STANDARD
DTSTART:20251026T030000Z
TZOFFSETFROM:+0200
TZOFFSETTO:+0100
END:STANDARD
BEGIN:DAYLIGHT
DTSTART:20260329T020000Z
TZOFFSETFROM:+0100
TZOFFSETTO:+0200
END:DAYLIGHT
BEGIN:STANDARD
DTSTART:20261025T030000Z
TZOFFSETFROM:+0200
TZOFFSETTO:+0100
END:STANDARD
END:VTIMEZONE
BEGIN:VTIMEZONE
TZID:UTC
BEGIN:STANDARD
DTSTART:20250724T124315Z
TZOFFSETFROM:+0000
TZOFFSETTO:+0000
END:STANDARD
END:VTIMEZONE
BEGIN:VEVENT
UID:61-49
DTSTAMP:20260420T124315Z
SUMMARY:Jahreshauptversammlung Förderverein
LOCATION:
ORGANIZER;CN=Christoph Wohlfahrt:MAILTO:christoph.wohlfahrt@ops-ldk.de
DTSTART;TZID=Europe/Berlin:20260519T183000
DTEND;TZID=Europe/Berlin:20260519T193000
X-ALT-DESC;FMTTYPE=TEXT/HTML:
CATEGORIES:Eltern
URL;VALUE=URI:https://ops-dillenburg.de/mc-events/jahreshauptversammlung-fo
 erderverein/
METHOD:PUBLISH
END:VEVENT
END:VCALENDAR